BEGIN:VCALENDAR
VERSION:2.0
PRODID:-//TIA Online - ECPv5.6.0//NONSGML v1.0//EN
CALSCALE:GREGORIAN
METHOD:PUBLISH
X-WR-CALNAME:TIA Online
X-ORIGINAL-URL:https://tiaonline.org
X-WR-CALDESC:Events for TIA Online
BEGIN:VTIMEZONE
TZID:America/New_York
BEGIN:DAYLIGHT
TZOFFSETFROM:-0500
TZOFFSETTO:-0400
TZNAME:EDT
DTSTART:20190310T070000
END:DAYLIGHT
BEGIN:STANDARD
TZOFFSETFROM:-0400
TZOFFSETTO:-0500
TZNAME:EST
DTSTART:20191103T060000
END:STANDARD
END:VTIMEZONE
BEGIN:VEVENT
DTSTART;VALUE=DATE:20191112
DTEND;VALUE=DATE:20191114
DTSTAMP:20210625T071250
CREATED:20190521T142146Z
LAST-MODIFIED:20191030T174423Z
UID:11189-1573516800-1573689599@tiaonline.org
SUMMARY:Business Performance Optimization Symposium: Dallas
DESCRIPTION:REGISTER HERE \nOS Dallas Sponsorship Prospectus \nQuality Assurance Best Practices for the Supply Chain \nTIA’s Business Performance Optimization Symposium (OS) focuses on how quality assurance best practices utilize data science and analytics to optimize a business’s supply chain for greater efficiency.  The 2019 OS Dallas theme is Business Performance Innovations in the ICT Industry. \nOS Dallas will take place at the Hyatt Regency North Dallas which has a reduced price for OS Dallas attendees. \nTuesday\, November 12 \n7-8am: Registration & Breakfast\n8-8:15 am: General Session Welcome and Opening Remarks: Dave Stehlin\, TIA’s CEO\n8:15-8:45 am: Keynote Presentation: AI\, 5G\, Edge Computing\, Quantum Computing\, Virtualization of the Network\n8:45-9:30 am: Executive Presentation: Smart Buildings – Buildings as Service: Harry Smeenk\, TIA\n9:30-10:15 am: Executive Presentation: Imagine Big Data at the Speed of Your Curiosity: Venkat Krishnamurthy\, OmniSci\n10:15-10:45 am: Coffee Break\n10:45-11:30 am: TL 9000 and the IAF: Working Together to Increase Confidence in the Supply Chain: Sheronda Jeffries\, IAF\n11:30 am -Noon: SME Presentation: Utilizing the ‘Process Approach’ to Ensure Continual Improvement: Jeff Bostow\, Sector Supply\nNoon-12:30pm: Executive Presentation: Using Analytics and Closed-Loop Automation to Optimize and Secure End-Users Experience in a Cloud Native/ 5G World: Patrick Ostiguy\, Accedian \n12:30-1:30 pm: Lunch Break \n1:30-2:15 pm: Keynote Presentation: Anatomy of the SamSam Ransomware Attack: What Are the Lessons of Cyberattacks Past\, Present and now with the Future of 5G and IOT: Carlos Solari\, Solaris Consulting Group\n2:15-2:45 pm: SME Presentation: Network Product Quality Assurance Process Challenges in the ICT Innovations Wave: Katsuyuki Tada\, Fujitsu Limited Japan\n2:45-3:15 pm: SME Presentation: Software Supplier Scorecard\, Ray Fannon\, AT&T\n3:15-3:45 pm: Coffee Break\n3:45-5 pm: Panel: The Attainability of Sustainability: from the Lens of Experts in the ICT Industry; Integrating Sustainability Principles into Business Improvement and Performance: Annie Beven\, Superior Essex\, Tom Erkens\, iQor\, Nancy Patterson\, Teltech Group\n5-5:30 pm: SME Presentation: Using AI for the Analysis of Customer Experience Data and Customer Feedback (subjective quality) by Hans Jurgen Schmolke\, Metrinomics\n5:30-7 pm: Networking and Recognition Reception \nWednesday\, November 13 \n7-8 am: Registration & Breakfast\n8-8:05 am: Reconvene & Welcome\n8:05-8:50 am: Keynote Presentation: Strategic Positioning for Next-Gen Operations\, Sankaran Ramanathan\, Verizon Wireless\n8:50-9:20 am: SME Presentation: Integrating Sustainability Principles into Business Improvement and Performance\, Tom Erkens\, iQor\n9:20-9:50 am: SME Presentation: Value Creation in 5G Era Ecosystem – Monetize C$\, Mani Vannan\, AnalyticsWise\n9:50-10:20 am: Coffee Break\n10:20-10:50 am: SME Presentation: Metrics Automation: From Product Performance to Organizational Best Practice\, Drena Fertetta\, Ciena\n10:50-11:20 am: Executive Presentation: Cybersecurity: Recent Challenges Being Tackled & the Solutions Being Discovered: Dr. Arnab Roy\, Fujitsu\n11:20-11:50 am: SME Presentation: Culture of Quality: Surekha Yenpure\, Juniper Networks \n11:50 am-12:50 pm: Lunch Break \n12:50-1:20 pm: SME Presentation: Service Performance Reliability in Next Generation Networks: Jacques Fluet\, TIA\n1:20-1:50 pm: SME Presentation: PMO Reinvention\, Evolving from Project Management to Portfolio Management\, Terry L. Fisher\, Fujitsu Network Communications\n1:50-3 pm: Panel: High Reliability in Next-gen Networks: Challenges and Opportunities\, Jacques Fluet\, TIA\, Robert Fitts\, EXFO\, Wayne Hickey\, Ciena\, Katsuyuki Tada\, Fujitsu\n3-3:15 pm: Coffee Break\n3:15-4:25 pm: Panel: How to Move from Technical KPIs to Subjective\, Stephen Choy\, Ifinera\, Phil Vieth\, NOKIA\, Ashok Dandekar\, Fujitsu; John Wronka\, Juniper Networks\, Ken Koffman\, TIA; Maciej Lebedowicz\, Metrinomics\n4:25-4:55 pm: Software Excellence Touchstone\, Sriniv Sriram\, Tata Consultancy Services (TCS)\n4:55-5:25 pm: SME Presentation: What is the Value Behind the Products and Services?\, Yasushi Kojima\, Chuo Engineering \nGold Sponsors: \n \n \n \nSilver Sponsors: \n \n \nBronze Sponsors: \n \n 
URL:https://tiaonline.org/event/business-performance-optimization-symposium-dallasquality-assurance-best-practices-for-the-supply-chain/
LOCATION:Hyatt Regency North Dallas\, 701 E Campbell Rd\, Richardson\, Texas
CATEGORIES:In Person
ATTACH;FMTTYPE=image/jpeg:https://tiaonline.org/wp-content/uploads/2019/05/TIA_OS_Dallas_Homepage_graphic-2.jpg
END:VEVENT
END:VCALENDAR